BEGIN:VCALENDAR
VERSION:2.0
PRODID:-//Tukios.com/
BEGIN:VEVENT
UID:02077478-cb19-4d8f-b306-72102dccb633@www.serenityfuneralshattiesburg.com
DTSTAMP:20260421T193934Z
DTSTART:20260424T220000Z
DTEND:20260425T000000Z
SUMMARY:Visitation Service for Mr. Arthur J. Woullard
DESCRIPTION:
URL:https://www.serenityfuneralshattiesburg.com/obituaries/arthur-woullard
LOCATION: 2157 Evelyn Gandy Parkway  Hattiesburg MS 39401
GEO:31.3727732;-89.3159727
END:VEVENT
END:VCALENDAR