BEGIN:VCALENDAR
VERSION:2.0
PRODID:-//Tukios.com/
BEGIN:VEVENT
UID:442fd503-60f4-4a1c-9426-5a116ccfb585@www.serenityfuneralshattiesburg.com
DTSTAMP:20260421T194203Z
DTSTART:20260425T150000Z
DTEND:20260425T160000Z
SUMMARY:Viewing Service for Mr. Arthur J. Woullard
DESCRIPTION:
URL:https://www.serenityfuneralshattiesburg.com/obituaries/arthur-woullard
LOCATION: 2157 Evelyn Gandy Parkway  Hattiesburg MS 39401
GEO:31.3727732;-89.3159727
END:VEVENT
END:VCALENDAR