BEGIN:VCALENDAR
VERSION:2.0
PRODID:-//Tukios.com/
BEGIN:VEVENT
UID:ab6badef-149a-45b9-ad45-9fc993139c20@www.serenityfuneralshattiesburg.com
DTSTAMP:20260421T194209Z
DTSTART:20260425T160000Z
DTEND:20260425T173000Z
SUMMARY:Celebration of Life for Mr. Arthur J. Woullard
DESCRIPTION:
URL:https://www.serenityfuneralshattiesburg.com/obituaries/arthur-woullard
LOCATION: 2157 Evelyn Gandy Parkway  Hattiesburg MS 39401
GEO:31.3727732;-89.3159727
END:VEVENT
END:VCALENDAR